BEGIN:VCALENDAR
PRODID:NingEventWidget-v1
VERSION:2.0
METHOD:PUBLISH
BEGIN:VEVENT
UID:4320450:Event:37101
DTSTAMP:20260425T155507Z
SUMMARY:Monarchs, Swallowtails, and More: An Annual Butterfly Count
DESCRIPTION:A summer tradition returns as we count the butterflies fl
 ying through our forests and fields. Become a citizen-scientist while
  learning the life histories of monarchs, swallowtails, cabbage white
 s, and many more. Butterfly watchers of all levels welcome, especiall
 y beginners.\n\nFor more information visit http://phillytodo.com/event
 s/monarchs-swallowtails-and-more-an-annual-butterfly-count
DTSTART:20140710T170000Z
DTEND:20140710T190000Z
CATEGORIES:butterfly, walk
LOCATION:The Schuylkill Center for Environmental Education
WEBSITE:http://www.schuylkillcenter.org/
URL:http://www.schuylkillcenter.org/
CONTACT:215-482-7300
ORGANIZER;CN="The Schuylkill Center":http://phillytodo.com/profile/Ann
 aLehrMueser
ATTACH;FMTTYPE="image/jpeg":http://storage.ning.com/topology/rest/1.0/
 file/get/3054976134?profile=original
ATTENDEE;ROLE=REQ-PARTICIPANT;PARTSTAT=ACCEPTED;RSVP=TRUE;CN="The Schu
 ylkill Center":http://phillytodo.com/profile/AnnaLehrMueser
END:VEVENT
END:VCALENDAR
