BEGIN:VCALENDAR
PRODID:NingEventWidget-v1
VERSION:2.0
METHOD:PUBLISH
BEGIN:VEVENT
UID:4320450:Event:32849
DTSTAMP:20260425T144256Z
SUMMARY:Modular Origami Workshop
DESCRIPTION:THIS SATURDAY! (a few seats are still open!)\nModular Orig
 ami Workshop - Taught by Rich Cotton\nJune 22nd 12-3pm\n$8 per person
 - KID FRIENDLY!\nStop in to Register or Call 215.360.5548\nSquare Peg 
 Artery & Salvage\n2527 Frankford Ave.,19125\n\nFor more information vi
 sit http://phillytodo.com/events/modular-origami-workshop-1
DTSTART:20130622T160000Z
DTEND:20130622T190000Z
CATEGORIES:craft, workshop
LOCATION:Square Peg Artery & Salvage
WEBSITE:http://squarepegartery.com
URL:http://squarepegartery.com
CONTACT:215.360.5548
ORGANIZER;CN="Square Peg Artery & Salvage":http://phillytodo.com/profi
 le/SquarePegArterySalvage
ATTACH;FMTTYPE="image/jpeg":http://storage.ning.com/topology/rest/1.0/
 file/get/3054966702?profile=original
ATTENDEE;ROLE=REQ-PARTICIPANT;PARTSTAT=ACCEPTED;RSVP=TRUE;CN="Square P
 eg Artery & Salvage":http://phillytodo.com/profile/SquarePegArterySalv
 age
END:VEVENT
END:VCALENDAR
