BEGIN:VCALENDAR
PRODID:NingEventWidget-v1
VERSION:2.0
METHOD:PUBLISH
BEGIN:VEVENT
UID:4320450:Event:58925
DTSTAMP:20260425T142554Z
SUMMARY:Modern Buddhism for Daily Life
DESCRIPTION:Join us for a new meditation class in Old City! Everyone w
 ishes to be happy all the time, but we cannot achieve this goal unless
  we attain lasting inner peace. In these classes, we will learn basic 
 meditation techniques and Buddhist advice that can help us to become h
 appy and peaceful from within. Everyone welcome, no meditation experie
 nce necessary. With Meditation Teacher, Eve Miller\n\nFor more informa
 tion visit http://phillytodo.com/events/modern-buddhism-for-daily-life
DTSTART:20191010T233000Z
DTEND:20191011T003000Z
CATEGORIES:meditation, class
LOCATION:Batala
WEBSITE:http://meditationinphiladelphia.org
URL:http://meditationinphiladelphia.org
CONTACT:267-702-3817
ORGANIZER;CN="Education Program Coordinator":http://phillytodo.com/pro
 file/EducationProgramCoordinator
ATTACH;FMTTYPE="image/jpeg":https://storage.ning.com/topology/rest/1.0
 /file/get/3610800313?profile=original
ATTENDEE;ROLE=REQ-PARTICIPANT;PARTSTAT=ACCEPTED;RSVP=TRUE;CN="Educatio
 n Program Coordinator":http://phillytodo.com/profile/EducationProgramC
 oordinator
END:VEVENT
END:VCALENDAR
