BEGIN:VCALENDAR
PRODID:NingEventWidget-v1
VERSION:2.0
METHOD:PUBLISH
BEGIN:VEVENT
UID:4320450:Event:1607
DTSTAMP:20260425T142743Z
SUMMARY:MMA & Sports XtremeShow Live Thursday Nights from 8PM to 10PM 
 Super Star Celebrities in the House from the UFC, Strikeforce, IFBB, a
 nd more including amatuer Arm Wrestling, Steel Bending, Hottie Conte
DESCRIPTION:MMA & Sports Xtreme Show Live with \"JJ\" & Krausey\nThurs
 day Nights from 8PM to 10PM\nSuper Star Celebrities in the House from 
 the UFC, Strikeforce, IFBB, and more including amatuer Arm Wrestling, 
 Steel Bending, Hottie Contest and Foxy Boxing and more. See Special Ev
 ents for more details.\n\nFor more information visit http://phillytodo
 .com/events/mma-sports-xtremeshow-live
DTSTART:20100611T000000Z
DTEND:20100611T030000Z
CATEGORIES:live, tv, and, radio, show, party, at, the, bar
LOCATION:2623 MacDade Blvd Holmes, PA 19043 Phone: 610-583-2254
WEBSITE:http://www.rpmcmurphysbar.com/events.html
URL:http://www.rpmcmurphysbar.com/events.html
CONTACT:610-583-2254
ORGANIZER;CN="james jefferson":http://phillytodo.com/profile/jamesjeff
 erson
ATTACH;FMTTYPE="image/jpeg":http://storage.ning.com/topology/rest/1.0/
 file/get/3054949802?profile=original
ATTENDEE;ROLE=REQ-PARTICIPANT;PARTSTAT=ACCEPTED;RSVP=TRUE;CN="james je
 fferson":http://phillytodo.com/profile/jamesjefferson
END:VEVENT
END:VCALENDAR
