BEGIN:VCALENDAR
PRODID:NingEventWidget-v1
VERSION:2.0
METHOD:PUBLISH
BEGIN:VEVENT
UID:4320450:Event:3833
DTSTAMP:20260425T142616Z
SUMMARY:MMA & Boxing Holiday Party
DESCRIPTION:Join Eddie and Albert Alvarez and Boxer Mike Jones at our 
 Free Holiday Party This Thursday at 8pm at Top Dog on Rt. 70 in Cherry
  Hill, NJ 08002.  We have other World Champions and Celebrities at th
 e filming of our TV show at Top Dog.   It is free and it is fun 8pm 
 be there.  We are giving away over 1,000.00 in prizes\n\n\nFor more i
 nformation visit http://phillytodo.com/events/mma-boxing-holiday-party
DTSTART:20101217T010000Z
DTEND:20101217T030000Z
CATEGORIES:party, and, tv, show
LOCATION:Top Dog Sports Bar
WEBSITE:http://www.topdogcherryhill.com/
URL:http://www.topdogcherryhill.com/
CONTACT:1-856-486-1001
ORGANIZER;CN="james jefferson":http://phillytodo.com/profile/jamesjeff
 erson
ATTACH;FMTTYPE="image/jpeg":
ATTENDEE;ROLE=REQ-PARTICIPANT;PARTSTAT=ACCEPTED;RSVP=TRUE;CN="james je
 fferson":http://phillytodo.com/profile/jamesjefferson
END:VEVENT
END:VCALENDAR
