BEGIN:VCALENDAR
PRODID:NingEventWidget-v1
VERSION:2.0
METHOD:PUBLISH
BEGIN:VEVENT
UID:4320450:Event:35821
DTSTAMP:20260425T125000Z
SUMMARY:MM2 Modern Dance presents BREATH
DESCRIPTION:Spring Preview of BREATHChoreographers: Jessica Bryan, Jen
 nifer Laucella, Alison Liney and Brianne Scott.TICKETS: $10 general ad
 missionPurchase online at http://www.danceboxoffice.com/product_detail
 s.php?item_id=96Our breath delivers needed oxygen to the physical body
 , but it also brings energies needed to nourish our spirits.  Allowin
 g the breath of life to manifest fully through us and others, begins w
 ith sensing and observing ourselves in the present, paying special att
 ention to the tensions that propel us through time, as well as the inn
 er attitudes that fuel them.  It allows us to be aware of “what is
 . This consciousness is the beginning of real transformation, both f
 or ourselves personally and for the world around us. It all begins wit
 h an awareness of breath.More information: www.mm2dance.org\n\nFor mor
 e information visit http://phillytodo.com/events/mm2-modern-dance-pres
 ents-breath
DTSTART:20140406T180000Z
DTEND:20140406T190000Z
CATEGORIES:dance, performance
LOCATION:The Performance Garage
WEBSITE:http://www.performancegarage.org/
URL:http://www.performancegarage.org/
CONTACT:484-469-0288
ORGANIZER;CN="MM2 Modern Dance Company":http://phillytodo.com/profile/
 MM2ModernDanceCompany
ATTACH;FMTTYPE="image/jpeg":http://storage.ning.com/topology/rest/1.0/
 file/get/3054973034?profile=original
ATTENDEE;ROLE=REQ-PARTICIPANT;PARTSTAT=ACCEPTED;RSVP=TRUE;CN="MM2 Mode
 rn Dance Company":http://phillytodo.com/profile/MM2ModernDanceCompany
END:VEVENT
END:VCALENDAR
