BEGIN:VCALENDAR
PRODID:NingEventWidget-v1
VERSION:2.0
METHOD:PUBLISH
BEGIN:VEVENT
UID:4320450:Event:40660
DTSTAMP:20260425T144739Z
SUMMARY:#MixologyMixer: Battle of the Bartenders Edition
DESCRIPTION:Join us for a free cocktail tasting event featuring specia
 lty cocktails from the city’s best mixologists and vote for your fav
 orites via social media! Competitors: Charlie Was a Sinner., The Victo
 ria Freehouse, Stratus Lounge, Liberte @ Sofitel Philadelphia, Aldine,
  and IndeBlue.\n \nThank you to our media partner Drink Philly and sp
 irits sponsor Philadelphia Distilling!\n \nGuests must be 21 years of
  age or older.\nRSVP to www.cashmanandassociates.com/rsvp or rsvp@cash
 manandassociates.com.\n\nFor more information visit http://phillytodo.
 com/events/mixologymixer-battle-of-the-bartenders-edition
DTSTART:20150428T210000Z
DTEND:20150428T230000Z
CATEGORIES:cocktails
LOCATION:The Market & Shops at Comcast Center
WEBSITE:https://www.facebook.com/events/383100385230632/
URL:https://www.facebook.com/events/383100385230632/
CONTACT:215-627-1060
ORGANIZER;CN=CashmanAssoc:http://phillytodo.com/profile/CashmanAssoc
ATTACH;FMTTYPE="image/jpeg":http://storage.ning.com/topology/rest/1.0/
 file/get/3054987598?profile=original
ATTENDEE;ROLE=REQ-PARTICIPANT;PARTSTAT=ACCEPTED;RSVP=TRUE;CN=CashmanAs
 soc:http://phillytodo.com/profile/CashmanAssoc
END:VEVENT
END:VCALENDAR
