BEGIN:VCALENDAR
PRODID:NingEventWidget-v1
VERSION:2.0
METHOD:PUBLISH
BEGIN:VEVENT
UID:4320450:Event:43073
DTSTAMP:20260425T130945Z
SUMMARY:Mixology Mixer: Battle of the Bartenders
DESCRIPTION:Join us for a free cocktail tasting event featuring specia
 lty cocktails from the city’s best mixologists and vote for your fav
 orites via social media!   Thank you to our media partner Drink Phill
 y and spirits sponsor Philadelphia Distilling!  Guests must be 21 year
 s of age or older.  RSVP to www.cashmanandassociates.com/rsvp or rs
 vp@cashmanandassociates.com.\n\nFor more information visit http://phil
 lytodo.com/events/mixology-mixer-battle-of-the-bartenders
DTSTART:20151124T220000Z
DTEND:20151125T000000Z
CATEGORIES:cocktails
LOCATION:The Market & Shops at Comcast Center
WEBSITE:https://www.facebook.com/events/464515573750615/
URL:https://www.facebook.com/events/464515573750615/
CONTACT:215-627-1060
ORGANIZER:Cashman & Associates
ATTACH;FMTTYPE="image/jpeg":http://storage.ning.com/topology/rest/1.0/
 file/get/3054990257?profile=original
ATTENDEE;ROLE=REQ-PARTICIPANT;PARTSTAT=ACCEPTED;RSVP=TRUE;CN=CashmanAs
 soc:http://phillytodo.com/profile/CashmanAssoc
END:VEVENT
END:VCALENDAR
