BEGIN:VCALENDAR
PRODID:NingEventWidget-v1
VERSION:2.0
METHOD:PUBLISH
BEGIN:VEVENT
UID:4320450:Event:48119
DTSTAMP:20260425T142537Z
SUMMARY:Mixology Mixer
DESCRIPTION:Back by popular demand, Mixology Mixer, a battle of local 
 bartenders at The Market and Shops at the Comcast Center, will take pl
 ace on Tuesday, November 22nd from 5-7pm. Guests will partake in a FRE
 E cocktail competition featuring specialty drinks from the city’s to
 p mixologists --Time, 13th Street Cocktails, Bar Bombon, Charlie was a
  Sinner, Tropicana AC's Boogie Nights and Taproom on 19th. Using State
 side Vodka, each bartender will battle to the sounds of DJ Scooter for
  a chance to win the fierce competition.\n\nFor more information visit
  http://phillytodo.com/events/mixology-mixer-1
DTSTART:20161122T220000Z
DTEND:20161123T000000Z
CATEGORIES:free, cocktail
LOCATION:The Market & Shops at Comcast Center
WEBSITE:http://www.themarketandshopsatthecomcastcenter.com
URL:http://www.themarketandshopsatthecomcastcenter.com
CONTACT:215-627-1060
ORGANIZER;CN=CashmanAssoc:http://phillytodo.com/profile/CashmanAssoc
ATTACH;FMTTYPE="image/jpeg":
ATTENDEE;ROLE=REQ-PARTICIPANT;PARTSTAT=ACCEPTED;RSVP=TRUE;CN=CashmanAs
 soc:http://phillytodo.com/profile/CashmanAssoc
END:VEVENT
END:VCALENDAR
