BEGIN:VCALENDAR
PRODID:NingEventWidget-v1
VERSION:2.0
METHOD:PUBLISH
BEGIN:VEVENT
UID:4320450:Event:40403
DTSTAMP:20260425T144526Z
SUMMARY:Mix at Six - Business Networking Event at Ladder 15
DESCRIPTION:Mix at Six™ is Philadelphia's new way to making after-wo
 rk business networking events more successful.  We create a relaxed, 
 fun atmosphere where you can meet people and develop quality lasting c
 onnections to Build Your Network.  No pressures, just good 'ole socia
 l networking!  Can't get there right at 6?  No problem - come when y
 ou can.\n \nHere's what to expect our \"Mix at Six\" events:\n \n* A
  mix of entrepreneurs, business owners, young professionals, and decis
 ion makers from a variety of industries and career levels (typically 1
 00+ quality people attend this event)\n* Color coded name tags by indu
 stry - network with the people that make the most sense to you and you
 r business - we help take the guesswork out of networking events\n* Fi
 rst drink free on UpcomingEvents.com, great drink specials, and light 
 appetizers (let's get the conversation flowing!)\n* Walk away with lot
 s of new business contacts and leads\n* Option to have your business c
 ard added to our business directory (a PDF will emailed to those that 
 opt in & attend the event)\n* Door prizes & giveaways (contact us if y
 our business wants to donate something)\n* Low Cost to Attend - multip
 le ticket options\n** General Admission - $15 in advance online, $20 a
 t the door\n** Speaking Sponsor - $50 and you get admission for 1 pers
 on and the chance to speak to the entire room (no table included) [lim
 ited to 5 people only]\n** Table Sponsor - $250 and you get a table in
  the middle of the event, admission for 4 people, and the chance to sp
 eak to the entire room [limited to 5 sponsors only]\n \n \nWe look f
 orward to meeting & networking with you!  Feel free to contact us if 
 you have any questions.\n \nTickets & More Info:  http://www.upcomi
 ngevents.com/e/mix-at-six-philadelphia-networking-event-at-ladder-15-2
 1394/?ref=phillytodo\n\nFor more information visit http://phillytodo.c
 om/events/mix-at-six-business-networking-event-at-ladder-15
DTSTART:20150311T220000Z
DTEND:20150312T010000Z
CATEGORIES:networking
LOCATION:Ladder 15
WEBSITE:http://www.upcomingevents.com/e/mix-at-six-philadelphia-networ
 king-event-at-ladder-15-21394/?ref=phillytodo
URL:http://www.upcomingevents.com/e/mix-at-six-philadelphia-networking
 -event-at-ladder-15-21394/?ref=phillytodo
CONTACT:
ORGANIZER;CN="UpcomingEvents.com":http://phillytodo.com/profile/Upcomi
 ngEventscom
ATTACH;FMTTYPE="image/jpeg":http://storage.ning.com/topology/rest/1.0/
 file/get/3054987590?profile=original
ATTENDEE;ROLE=REQ-PARTICIPANT;PARTSTAT=ACCEPTED;RSVP=TRUE;CN="Upcoming
 Events.com":http://phillytodo.com/profile/UpcomingEventscom
END:VEVENT
END:VCALENDAR
