BEGIN:VCALENDAR
PRODID:NingEventWidget-v1
VERSION:2.0
METHOD:PUBLISH
BEGIN:VEVENT
UID:4320450:Event:19702
DTSTAMP:20260425T173501Z
SUMMARY:Mischief & Martinis
DESCRIPTION:\nThe Young Friends ofthe Foundation for Breast and Prosta
 te Health (FBPH) are kicking off Halloweenweekend in style with “Mis
 chief and Martinis” at Hotel Palomar on Friday,October 28. From 8-11
  p.m., guests will enjoy cocktails, hors d’oeuvres and asilent aucti
 on. Tickets are $75 a person, with 100% of the proceedsgoing to the FB
 PH. An exclusive after party will follow at Tryst, Le Bar,downstairs a
 t Le Bec Fin restaurant.To purchase tickets, visit www.youngfriendsFBP
 H.ticketleap.com.\n\nFor more information visit http://phillytodo.com/
 events/mischief-martinis-1
DTSTART:20111029T000000Z
DTEND:20111029T030000Z
CATEGORIES:fundraiser
LOCATION:Hotel Palomar
WEBSITE:http://www.youngfriendsFBPH.ticketleap.com
URL:http://www.youngfriendsFBPH.ticketleap.com
CONTACT:
ORGANIZER:The Young Friends of the Foundation for Breast and Prostate 
 Health
ATTACH;FMTTYPE="image/jpeg":http://storage.ning.com/topology/rest/1.0/
 file/get/3054954827?profile=original
ATTENDEE;ROLE=REQ-PARTICIPANT;PARTSTAT=ACCEPTED;RSVP=TRUE;CN="Brittany
  McLeod":http://phillytodo.com/profile/BrittanyMcLeod
END:VEVENT
END:VCALENDAR
