BEGIN:VCALENDAR
PRODID:NingEventWidget-v1
VERSION:2.0
METHOD:PUBLISH
BEGIN:VEVENT
UID:4320450:Event:33612
DTSTAMP:20260425T143438Z
SUMMARY:MilkBoy's 2nd Anniversary
DESCRIPTION:To celebrate their 2nd Anniversary, MilkBoy will be offeri
 ng $2 shots, $2 beers and $2 snacks from August 15 - August 17.\nThis 
 also includes free live music & DJs every night.\nThe performance line
 -up is as follows:\n\nThursday, August 15, 8 pm - Black Landlord, El M
 alito, Kim Jong Ill, DJ Tony Sylvester.\nFriday, August 16, 8:30 pm â€
 “ Shark Tape, The Fleeting Ends, The Peace Creeps, Mo Lowda & The Humb
 le.\nSaturday, August 17, 8:30 pm â€“ W.C. Lindsay, The Sixties, Three
  Idea Men, Commonwealth Choir.\n\nFor more information visit http://ph
 illytodo.com/events/milkboy-s-2nd-anniversary
DTSTART:20130815T040000Z
DTEND:20130818T035900Z
CATEGORIES:party
LOCATION:MilkBoy Philly
WEBSITE:
URL:
CONTACT:(215) 925-6455
ORGANIZER;CN="Punch Media":http://phillytodo.com/profile/PunchMedia
ATTACH;FMTTYPE="image/jpeg":
ATTENDEE;ROLE=REQ-PARTICIPANT;PARTSTAT=ACCEPTED;RSVP=TRUE;CN="Punch Me
 dia":http://phillytodo.com/profile/PunchMedia
END:VEVENT
END:VCALENDAR
