BEGIN:VCALENDAR
PRODID:NingEventWidget-v1
VERSION:2.0
METHOD:PUBLISH
BEGIN:VEVENT
UID:4320450:Event:33024
DTSTAMP:20260425T144618Z
SUMMARY:Milkboy Philly 4th of July All Day Celebration
DESCRIPTION:MilkBoy Philly is like a celebration of Independence ever
 yday. This July 4th  MilkBoy Philly will be open regular hours — ye
 s friends, that's 7am to 2am — so there's plenty time to party and e
 njoy Chef Brian Mahon's stepped up cuisine. Bar Manager, the über-ta
 lented Evan Maffiore and his team, will mix up a variety of killer d
 rink specials to keep visitors and locals saying \"cheers to kicking o
 ut the Monachy.\" Some of our picks for this 4th include Maffiore's cl
 assic daiquiri and MilkBoy's effervescent Sangria. \n\nFor more infor
 mation visit http://phillytodo.com/events/milkboy-philly-4th-of-july-a
 ll-day-celebration
DTSTART:20130704T110000Z
DTEND:20130706T060000Z
CATEGORIES:holiday, special
LOCATION:Milkboy Philly
WEBSITE:http://www.milkboyphilly.com/about/
URL:http://www.milkboyphilly.com/about/
CONTACT:(215) 925-6455
ORGANIZER;CN="Punch Media":http://phillytodo.com/profile/PunchMedia
ATTACH;FMTTYPE="image/jpeg":http://storage.ning.com/topology/rest/1.0/
 file/get/3054966941?profile=original
ATTENDEE;ROLE=REQ-PARTICIPANT;PARTSTAT=ACCEPTED;RSVP=TRUE;CN="Punch Me
 dia":http://phillytodo.com/profile/PunchMedia
END:VEVENT
END:VCALENDAR
