BEGIN:VCALENDAR
PRODID:NingEventWidget-v1
VERSION:2.0
METHOD:PUBLISH
BEGIN:VEVENT
UID:4320450:Event:45154
DTSTAMP:20260425T142655Z
SUMMARY:Miles Table Celebrates 3rd Birthday With A Complimentary Marga
 rita!
DESCRIPTION:Since 2013, Miles Table has been a local favorite in the G
 raduate Hospital area. On Tuesday, February 23, 2016, Miles Table will
  be celebrating their 3rd birthday and the whole neighborhood is invit
 ed for a very special Taco Tuesday birthday party. From 5 to 9 p.m., a
 nyone who orders from the Taco Tuesday menu will receive a complimenta
 ry margarita! And for dessert, homemade churros served with Mexican ch
 ocolate sauce, on the house. Stop by “where the neighborhood eats”
  for a birthday fiesta!\n \nMiles Table Taco Tuesday Menu\nAll tacos 
 are $3, minimum 3 tacos per order\nChicken Tinga\nPico de gallo, queso
  fresco crema\nBeer Batter Fish\nPickled cabbage, avocado salsa, chipo
 tle aioli, radish, cilantro\nPulled Pork\nGrilled pineapple salsa, pic
 kled onions\nCrispy Shrimp\nPickled cabbage, chipotle aioli, pineapple
  salsa\nBeef Short Ribs\nRefried beans, caramelized onions, roasted po
 blanos\n \nMiles Table is located at 1620 South St, Philadelphia, PA 
 19146 and is open seven days a week, Monday through Friday 7 a.m. to 8
  p.m., Saturday from 8 a.m. to 8 p.m., and Sunday from 9 a.m. to 4 p.m
 . For more information call 267-318-7337 or go to www.milestable.com.\
 n\nFor more information visit http://phillytodo.com/events/miles-table
 -celebrates-3rd-birthday-with-a-complimentary
DTSTART:20160223T220000Z
DTEND:20160224T020000Z
CATEGORIES:birthday, party
LOCATION:Graduate Hospital
WEBSITE:http://milestable.com
URL:http://milestable.com
CONTACT:267-318-7337
ORGANIZER;CN="Tina Breslow":http://phillytodo.com/profile/TinaBreslow
ATTACH;FMTTYPE="image/jpeg":http://storage.ning.com/topology/rest/1.0/
 file/get/3054990882?profile=original
ATTENDEE;ROLE=REQ-PARTICIPANT;PARTSTAT=ACCEPTED;RSVP=TRUE;CN="Tina Bre
 slow":http://phillytodo.com/profile/TinaBreslow
END:VEVENT
END:VCALENDAR
