BEGIN:VCALENDAR
PRODID:NingEventWidget-v1
VERSION:2.0
METHOD:PUBLISH
BEGIN:VEVENT
UID:4320450:Event:51955
DTSTAMP:20260425T113247Z
SUMMARY:Mike DelGuidice &amp; Big Shot: Celebrating The Music of Billy
  Joel
DESCRIPTION:Valley Forge Casino Resort (1160 First Avenue, King of Pru
 ssia) welcomes Mike DelGuidice & Big Shot: The Ultimate Billy Joel Exp
 erience to Valley Forge Music Fair on October 27, 2017. Mike DelGuidic
 e was handpicked and hired by Billy Joel in 2013 to become the newest 
 member of the Billy Joel Band, the touring band behind the man himself
 . Mike DelGuidice & Big Shot perform astonishing versions of Billy Joe
 l’s greatest hits and even some of the lesser known tunes that only 
 a true die-hard would know and appreciate. The true Billy Joel fan wil
 l be blown away after experiencing Big Shot live. Doors of The Venue o
 pen at 8:00pm and the show starts at 9:00pm. Ticket prices range from 
 $30-$35 and are on sale now at Ticketmaster.com.\n\nFor more informati
 on visit http://phillytodo.com/events/mike-delguidice-amp-big-shot-cel
 ebrating-the-music-of-billy-joel
DTSTART:20171028T010000Z
DTEND:20171028T030000Z
CATEGORIES:concert
LOCATION:The Venue at Valley Forge Casino Resort
WEBSITE:https://www.vfcasino.com/events/big-shot/
URL:https://www.vfcasino.com/events/big-shot/
CONTACT:610-354-8222
ORGANIZER:Valley Forge Casino Resort
ATTACH;FMTTYPE="image/jpeg":http://storage.ning.com/topology/rest/1.0/
 file/get/3055004117?profile=original
ATTENDEE;ROLE=REQ-PARTICIPANT;PARTSTAT=ACCEPTED;RSVP=TRUE;CN="Aversa P
 R & Events":http://phillytodo.com/profile/KoryAversa277
END:VEVENT
END:VCALENDAR
