BEGIN:VCALENDAR
PRODID:NingEventWidget-v1
VERSION:2.0
METHOD:PUBLISH
BEGIN:VEVENT
UID:4320450:Event:1083
DTSTAMP:20260425T125820Z
SUMMARY:Miho Hatori (from Cibo Matto) Live - Japan Night @ Art Museum
DESCRIPTION:Join us at the Philadelphia Museum of Art for the kickoff 
 event of the 2010 Subaru Cherry Blossom Festival. Japan Night at the M
 useum is part of the Art After 5 Series and features a live musical pe
 rformance, guided gallery tours, cocktails, table-service, and more.\n
 \nIn the Great Stair Hall, Cibo Matto co-founder Miho Hatori will perf
 orm songs from her solo project. Known for drawing on sources that spa
 n the musical spectrum, Miho blends diverse elements seamlessly into a
  catchy and unique brand of pop.\n\nPatrons are also invited to tour a
 n exhibit of Japanese display artist, Tabaimo, who draws on the aesthe
 tics of Japanese woodcuts and manga in her video works. Guided tours o
 f the newly opened “Pleasures and Pastimes” exhibition will also b
 e available. Entrance to Japan Night is Free with Museum Admission.\n\
 nFor more information visit http://phillytodo.com/events/miho-hatori-f
 rom-cibo-matto
DTSTART:20100305T224500Z
DTEND:20100306T014500Z
CATEGORIES:music, performance, and, art, show
LOCATION:Philadelphia Museum of Art
WEBSITE:http://bit.ly/c9TcvS
URL:http://bit.ly/c9TcvS
CONTACT:215-763-8100
ORGANIZER:Subaru Cherry Blossom Festival
ATTACH;FMTTYPE="image/jpeg":http://storage.ning.com/topology/rest/1.0/
 file/get/3054946307?profile=original
ATTENDEE;ROLE=REQ-PARTICIPANT;PARTSTAT=ACCEPTED;RSVP=TRUE;CN="Girls Ro
 ck Philly":http://phillytodo.com/profile/GirlsRockPhilly
ATTENDEE;ROLE=REQ-PARTICIPANT;PARTSTAT=TENTATIVE;RSVP=TRUE;CN=valerie:
 http://phillytodo.com/profile/valerie
END:VEVENT
END:VCALENDAR
