BEGIN:VCALENDAR
PRODID:NingEventWidget-v1
VERSION:2.0
METHOD:PUBLISH
BEGIN:VEVENT
UID:4320450:Event:36905
DTSTAMP:20260425T124917Z
SUMMARY:Mexican Independence Day
DESCRIPTION:Celebrate Mexican Independence with music, food, dancing, 
 and more. There will be a little something for everyone: arts and craf
 ts, Mexican rock bands, face painting, and giveaways.\n\nFor more info
 rmation visit http://phillytodo.com/events/mexican-independence-day
DTSTART:20140914T170000Z
DTEND:20140914T230000Z
CATEGORIES:festival, waterfront
LOCATION:Great Plaza at Penn's Landing
WEBSITE:http://www.delawareriverwaterfront.com/events/mexican-independ
 ence-day-festival-2014
URL:http://www.delawareriverwaterfront.com/events/mexican-independence
 -day-festival-2014
CONTACT:215-922-2386
ORGANIZER;CN="Delaware River Waterfront Corp.":http://phillytodo.com/p
 rofile/DelawareRiverWaterfrontCorp
ATTACH;FMTTYPE="image/jpeg":http://storage.ning.com/topology/rest/1.0/
 file/get/3054978084?profile=original
ATTENDEE;ROLE=REQ-PARTICIPANT;PARTSTAT=ACCEPTED;RSVP=TRUE;CN="Delaware
  River Waterfront Corp.":http://phillytodo.com/profile/DelawareRiverWa
 terfrontCorp
END:VEVENT
END:VCALENDAR
