BEGIN:VCALENDAR
PRODID:NingEventWidget-v1
VERSION:2.0
METHOD:PUBLISH
BEGIN:VEVENT
UID:4320450:Event:1809
DTSTAMP:20260425T173813Z
SUMMARY:Merion Fire Company of Ardmore Golf Outing present by SUBURBAN
  SQUARE!!**
DESCRIPTION:On Monday, June 28th, Suburban Square presents the 7th ann
 ual Merion Fire Company of Ardmore Golf Outing at Hershey’s Mill Gol
 f Course. The golf outing benefits the volunteer fire company, which i
 s funded through community donations and special fund raising events t
 hroughout the year.\n\nJoin this effort to support the Fire Company Vo
 lunteers and the services they provide starting at $50/person. Sponsor
 ship opportunities start at $250.00. For additional information, call 
 Tom Watt @ 610-642-6700. Visit www.merionfireco.org to learn more abou
 t the Merion Fire Company of Ardmore.\n\nFor more information visit ht
 tp://phillytodo.com/events/merion-fire-company-of-ardmore
DTSTART:20100628T040000Z
DTEND:20100629T035900Z
CATEGORIES:fundraiser
LOCATION:Hershey's Mill Golf Course
WEBSITE:
URL:
CONTACT:
ORGANIZER:Suburban Square
ATTACH;FMTTYPE="image/jpeg":
ATTENDEE;ROLE=REQ-PARTICIPANT;PARTSTAT=ACCEPTED;RSVP=TRUE;CN="Valerie 
 Bunsick":http://phillytodo.com/profile/ValerieBunsick
END:VEVENT
END:VCALENDAR
