BEGIN:VCALENDAR
PRODID:NingEventWidget-v1
VERSION:2.0
METHOD:PUBLISH
BEGIN:VEVENT
UID:4320450:Event:41122
DTSTAMP:20260425T143454Z
SUMMARY:Merge Dance Studio's Third Annual Recital
DESCRIPTION:Merge Dance Studio, “Where Dance and Fitness Merge”, b
 ased in Manayunk will be presenting their third annual recital on June
  20, 2015 at 6:00pm at Plymouth Whitemarsh High School. Merge Dance St
 udio’s students have been working hard all year on their dance techn
 ique, which will be showcased during this performance. Dance styles to
  be performed include ballet, pointe, tap, jazz, modern/contemporary, 
 acro, and jazz funk/hip-hop with the performance including dancer’s 
 ages 3 years old to adult. This promises to be a fun performance for t
 he whole family! The performance is open to the public and tickets are
  available for $15.00 in advance and $20.00 at the door. Tickets for c
 hildren 12 and under are $13.00 in advance and $18.00 at the door whil
 e children 3 and under can attend for free. Contact Merge Dance Studio
  at info@mergedancestudio.com to purchase tickets in advance of the pe
 rformance. Please visit www.mergedancestudio.com for more information.
 \n\nFor more information visit http://phillytodo.com/events/merge-danc
 e-studio-s-third-annual-recital
DTSTART:20150620T220000Z
DTEND:20150621T000000Z
CATEGORIES:dance, recital
LOCATION:Plymouth Whitemarsh High School
WEBSITE:http://www.mergedancestudio.com
URL:http://www.mergedancestudio.com
CONTACT:215-266-1311
ORGANIZER:Merge Dance Studio
ATTACH;FMTTYPE="image/jpeg":http://storage.ning.com/topology/rest/1.0/
 file/get/3054988824?profile=original
ATTENDEE;ROLE=REQ-PARTICIPANT;PARTSTAT=ACCEPTED;RSVP=TRUE;CN="Christa 
 Campbell":http://phillytodo.com/profile/ChristaCampbell
END:VEVENT
END:VCALENDAR
