BEGIN:VCALENDAR
PRODID:NingEventWidget-v1
VERSION:2.0
METHOD:PUBLISH
BEGIN:VEVENT
UID:4320450:Event:37139
DTSTAMP:20260425T142626Z
SUMMARY:Merge Dance Studio's Second Annual Recital
DESCRIPTION:Merge Dance Studio, “Where Dance and Fitness Merge”, w
 ill be presenting their second annual recital on June 21, 2014 at 6:00
 pm at Plymouth Whitemarsh High School. Merge Dance Studio’s students
  have been working hard all year on their dance technique, which will 
 be showcased during this performance. Dance styles to be performed inc
 lude ballet, pointe, tap, jazz, modern/contemporary, musical theatre d
 ance, and jazz funk/hip-hop with the performance including dancer’s 
 ages 3 years old to adult. This promises to be a fun performance for t
 he whole family! The performance is open to the public and tickets are
  available for $15.00 in advance and $20.00 at the door. Tickets for c
 hildren 12 and under are $13.00 in advance and $18.00 at the door whil
 e children 3 and under can attend for free. Contact Merge Dance Studio
  at info@mergedancestudio.com to purchase tickets in advance of the pe
 rformance. Please visit www.mergedancestudio.com for more information.
 \n\nFor more information visit http://phillytodo.com/events/merge-danc
 e-studio-s-second-annual-recital
DTSTART:20140621T220000Z
DTEND:20140622T000000Z
CATEGORIES:dance, recital
LOCATION:Plymouth Whitemarsh High School
WEBSITE:http://www.mergedancestudio.com
URL:http://www.mergedancestudio.com
CONTACT:215-266-1311
ORGANIZER;CN="Christa Campbell":http://phillytodo.com/profile/ChristaC
 ampbell
ATTACH;FMTTYPE="image/jpeg":http://storage.ning.com/topology/rest/1.0/
 file/get/3054975585?profile=original
ATTENDEE;ROLE=REQ-PARTICIPANT;PARTSTAT=ACCEPTED;RSVP=TRUE;CN="Christa 
 Campbell":http://phillytodo.com/profile/ChristaCampbell
END:VEVENT
END:VCALENDAR
