BEGIN:VCALENDAR
PRODID:NingEventWidget-v1
VERSION:2.0
METHOD:PUBLISH
BEGIN:VEVENT
UID:4320450:Event:38835
DTSTAMP:20260425T144409Z
SUMMARY:Merge Dance Studio Open House & Registration for NEW Students
DESCRIPTION:Merge Dance Studio, \"Where Dance and Fitness Merge”, in
  Manayunk is holding an open house on Saturday, Nov. 15, 2014 from 4:0
 0-6:00pm for potential new students to come in to see their space, get
  fitted for and order dancewear, learn more about their classes, and t
 o register for their second session, which begins Dec. 1, 2014. Classe
 s are running now and may also be joined before the second session beg
 ins. You may also register for classes by mailing in or bringing in yo
 ur registration form and tuition to Merge Dance Studio. At the open ho
 use you will also be able to check out activewear products from D.Sign
 s Activewear. They offer activewear that not only fits well and looks 
 great but also makes you feel great about your body. Merge Dance Studi
 o provides professional dance and fitness instruction for ages 2 to ad
 ult and for all skill levels. Whether you have been dancing for years,
  are just starting out, are looking to get back into it, or are just l
 ooking for a fun alternative to your normal workout routine Merge Danc
 e Studio is the place for you! Weekly classes are offered in creative 
 movement, mommy/daddy & me, ballet, pointe, jazz, tap, modern/contempo
 rary, jazz funk/hip-hop, acro, Piloxing®, BARRE Fusion, and Zumba®. 
 Merge Dance Studio strives to provide a fun and encouraging learning e
 nvironment through quality instruction and a varied class schedule. We
 ekly dance and fitness classes are offered at convenient times and at 
 affordable rates and are a great way to get and stay in shape, channel
  your energy in a positive way, and maintain or increase your strength
  and flexibility throughout the year. Dance is also a great way to bea
 t the winter blues so don’t let the winter weather keep you from tak
 ing classes this season! For a complete class schedule and more inform
 ation please visit www.mergedancestudio.com. For more information abou
 t D.Signs Activewear please visit www.shopDsigns.com.\n\nFor more info
 rmation visit http://phillytodo.com/events/merge-dance-studio-open-hou
 se-registration-for-new-students
DTSTART:20141115T210000Z
DTEND:20141115T230000Z
CATEGORIES:open, house
LOCATION:Merge Dance Studio
WEBSITE:http://www.mergedancestudio.com
URL:http://www.mergedancestudio.com
CONTACT:215-266-1311
ORGANIZER:Merge Dance Studio
ATTACH;FMTTYPE="image/jpeg":http://storage.ning.com/topology/rest/1.0/
 file/get/3054965127?profile=original
ATTENDEE;ROLE=REQ-PARTICIPANT;PARTSTAT=ACCEPTED;RSVP=TRUE;CN="Christa 
 Campbell":http://phillytodo.com/profile/ChristaCampbell
END:VEVENT
END:VCALENDAR
