BEGIN:VCALENDAR
PRODID:NingEventWidget-v1
VERSION:2.0
METHOD:PUBLISH
BEGIN:VEVENT
UID:4320450:Event:43164
DTSTAMP:20260425T160925Z
SUMMARY:Merge Dance Studio Open House and Registration for New Student
 s
DESCRIPTION:Merge Dance Studio, \"Where Dance and Fitness Merge”, in
  Manayunk is holding an open house on Saturday, Dec. 5, 2015 from 4:30
 -6:30pm for potential new students to come in to see their space, get 
 fitted for and order dancewear, learn more about their classes, and to
  register for their second session, which begins Dec. 7, 2015. Classes
  are running now and may also be joined before the second session begi
 ns. You may also register for classes by mailing in or bringing in you
 r registration form and tuition to Merge Dance Studio. Merge Dance Stu
 dio provides professional dance and fitness instruction for ages 2 to 
 adult and for all skill levels. Whether you have been dancing for year
 s, are just starting out, are looking to get back into it, or are just
  looking for a fun alternative to your normal workout routine, Merge D
 ance Studio is the place for you! Weekly classes are offered in creati
 ve movement, mommy/daddy & me, ballet, pointe, jazz, tap, modern/conte
 mporary, jazz funk/hip-hop, acro, Piloxing®, BARRE Fusion, and Zumba
 . Merge Dance Studio strives to provide a fun and encouraging learnin
 g environment through quality instruction and a varied class schedule.
  Weekly dance and fitness classes are offered at convenient times and 
 at affordable rates and are a great way to get and stay in shape, chan
 nel your energy in a positive way, and maintain or increase your stren
 gth and flexibility throughout the year. Dance is also a great way to 
 beat the winter blues so don’t let the winter weather keep you from 
 taking classes this season! For a complete class schedule and more inf
 ormation please visit http://www.mergedancestudio.com. \n\nFor more i
 nformation visit http://phillytodo.com/events/merge-dance-studio-open-
 house-and-registration-for-new-students
DTSTART:20151205T213000Z
DTEND:20151205T233000Z
CATEGORIES:open, house
LOCATION:Merge Dance Studio
WEBSITE:http://www.mergedancestudio.com
URL:http://www.mergedancestudio.com
CONTACT:215-266-1311
ORGANIZER:Merge Dance Studio
ATTACH;FMTTYPE="image/jpeg":http://storage.ning.com/topology/rest/1.0/
 file/get/3054995143?profile=original
ATTENDEE;ROLE=REQ-PARTICIPANT;PARTSTAT=ACCEPTED;RSVP=TRUE;CN="Christa 
 Campbell":http://phillytodo.com/profile/ChristaCampbell
END:VEVENT
END:VCALENDAR
