BEGIN:VCALENDAR
PRODID:NingEventWidget-v1
VERSION:2.0
METHOD:PUBLISH
BEGIN:VEVENT
UID:4320450:Event:41305
DTSTAMP:20260425T144417Z
SUMMARY:Merge Dance Studio Open House and Registration
DESCRIPTION:Merge Dance Studio, \"Where Dance and Fitness Merge”, in
  Manayunk is holding two open houses to allow everyone to come in to s
 ee their space, get fitted for and order dancewear, learn more about t
 heir classes, and to register for their summer and/or fall sessions. T
 he open houses will be on Thursday, June 18, 2015 and Wednesday, June 
 24, 2015 from 5:00-8:00pm. You may also register at anytime by mailing
  in your registration form and tuition. Merge Dance Studio is offering
  a 7-week summer session of dance and fitness classes beginning on Jul
 y 6th that is guaranteed to keep you movin' and groovin' throughout th
 e summer months and their fall 2015-2016 classes will begin on Sept. 9
 th! At these open houses you will also be able to check out D.Signs Ac
 tivewear’s current activewear style and color options and try on sam
 ples of their designs. They offer activewear that not only fits well a
 nd looks great but also makes you feel great about your body. Merge Da
 nce Studio provides professional dance and fitness instruction for age
 s 2 to adult and for all skill levels in the Manayunk area of Philadel
 phia, PA. Weekly classes are offered in mommy/daddy & me, creative mov
 ement, ballet, pointe, jazz, tap, modern/contemporary, jazz funk/hip-h
 op, acro, Piloxing®, BARRE Fusion, and Zumba®. Merge Dance Studio st
 rives to provide a fun and encouraging learning environment through qu
 ality instruction and a varied class schedule. Weekly dance and fitnes
 s classes are offered at convenient times and at affordable rates and 
 are a great way to get and stay in shape, channel your energy in a pos
 itive way, and maintain or increase your strength and flexibility thro
 ughout the year. For a complete class schedule and more information pl
 ease visit www.mergedancestudio.com. For more information about D.Sign
 s Activewear please visit www.shopDsigns.com.\n\nFor more information 
 visit http://phillytodo.com/events/merge-dance-studio-open-house-and-r
 egistration-1
DTSTART:20150624T210000Z
DTEND:20150625T000000Z
CATEGORIES:open, house
LOCATION:Merge Dance Studio
WEBSITE:http://www.mergedancestudio.com
URL:http://www.mergedancestudio.com
CONTACT:215-266-1311
ORGANIZER:Merge Dance Studio
ATTACH;FMTTYPE="image/jpeg":http://storage.ning.com/topology/rest/1.0/
 file/get/3054987876?profile=original
ATTENDEE;ROLE=REQ-PARTICIPANT;PARTSTAT=ACCEPTED;RSVP=TRUE;CN="Christa 
 Campbell":http://phillytodo.com/profile/ChristaCampbell
END:VEVENT
END:VCALENDAR
