BEGIN:VCALENDAR
PRODID:NingEventWidget-v1
VERSION:2.0
METHOD:PUBLISH
BEGIN:VEVENT
UID:4320450:Event:58805
DTSTAMP:20260425T125819Z
SUMMARY:“Mending a Reflection” Opening Reception
DESCRIPTION:Rowan University Art Gallery is pleased to present Mending
  a Reflection, a solo exhibition of Julie Heffernan’s self-portraits
 , curated by Mary Salvante, Director of Rowan University Art Gallery.\
 nThe exhibit will be on view September 3 to October 26, 2019, with an 
 artist talk and opening reception on September 12, from 5 – 7:30 pm.
  Artist talk begins at 5:00 pm, with an opening reception immediately 
 following.                                     
                                               
             \nMending a Reflection addresses the connection betw
 een culture, mass media and personal identity through the eyes of one 
 central female figure. Through self-portraiture, Heffernan investigate
 s what she calls the “shared collective unconscious,” exploring th
 e historical narratives and subliminal imagery that work to shape who 
 we are and how we perceive the world around us.   Click here to RSVP 
 to the opening reception.\n\nFor more information visit http://phillyt
 odo.com/events/mending-a-reflection-opening-reception-amp-artist-talk
DTSTART:20190912T210000Z
DTEND:20190912T233000Z
CATEGORIES:opening, reception
LOCATION:Rowan University Art Gallery
WEBSITE:https://sites.rowan.edu/artgallery/exhibitions/julie-heffernan
 .html
URL:https://sites.rowan.edu/artgallery/exhibitions/julie-heffernan.htm
 l
CONTACT:(856) 256-4521
ORGANIZER;CN="mary salvante":http://phillytodo.com/profile/marysalvant
 e
ATTACH;FMTTYPE="image/jpeg":https://storage.ning.com/topology/rest/1.0
 /file/get/3408661406?profile=original
ATTENDEE;ROLE=REQ-PARTICIPANT;PARTSTAT=ACCEPTED;RSVP=TRUE;CN="mary sal
 vante":http://phillytodo.com/profile/marysalvante
END:VEVENT
END:VCALENDAR
