BEGIN:VCALENDAR
PRODID:NingEventWidget-v1
VERSION:2.0
METHOD:PUBLISH
BEGIN:VEVENT
UID:4320450:Event:36564
DTSTAMP:20260425T142648Z
SUMMARY:Memorial Day Celebration at Franklin Square
DESCRIPTION:Kick off the summer season with fun featuring carnival gam
 es ($.25 per play) and the Lightning Bolt Express Train ($5 adults, $4
  children).\nAward-winning Franklin Square is a family-friendly play p
 lace located in the heart of Historic Philadelphia, featuring Philly M
 ini Golf, a renovated vintage marble fountain, playgrounds, the Parx L
 iberty Carousel, and the acclaimed SquareBurger, with offerings from S
 TARR Restaurants. \n\nFor more information visit http://phillytodo.co
 m/events/memorial-day-celebration-at-franklin-square
DTSTART:20140524T160000Z
DTEND:20140526T190000Z
CATEGORIES:holiday
LOCATION:Franklin Square
WEBSITE:http://www.historicphiladelphia.org
URL:http://www.historicphiladelphia.org
CONTACT:215-629-4026
ORGANIZER:
ATTACH;FMTTYPE="image/jpeg":
ATTENDEE;ROLE=REQ-PARTICIPANT;PARTSTAT=ACCEPTED;RSVP=TRUE;CN="Cari Fei
 ler Bender":http://phillytodo.com/profile/CariFeilerBender
END:VEVENT
END:VCALENDAR
