BEGIN:VCALENDAR
PRODID:NingEventWidget-v1
VERSION:2.0
METHOD:PUBLISH
BEGIN:VEVENT
UID:4320450:Event:41021
DTSTAMP:20260425T142756Z
SUMMARY:Memorial Day Backyard BBQ With Neshaminy Creek Brewing
DESCRIPTION:Taproom On 19th is firing up the grills for a Memorial Day
  BBQ with Neshaminy Creek Brewing. Head to 19th and Ritner starting at
  1:00pm on Monday, May 25, 2015 for all of your favorites: burgers, ho
 t dogs, kielbasa, veggies and more. Neshaminy Creek Brewing Company wi
 ll take over the taps with Croydon Cream Ale, Churchville Lager, Count
 y Line IPA and others. For something extra special, don’t miss Croyd
 on Cream Ale conditioned with additional hops and Key Lime on the cask
 . For those looking to cool off, there will be a kiddie pool to wade i
 n. Free entry, pay as you go for food and drink for this 21+ event. Fo
 r more info, call 267-687-7817, visit Taproom on 19th on Facebook or v
 isit www.taproomon19th.com.\n\nFor more information visit http://phill
 ytodo.com/events/memorial-day-backyard-bbq-with-neshaminy-creek-brewin
 g
DTSTART:20150525T170000Z
DTEND:20150526T034500Z
CATEGORIES:memorial, day, bbq
LOCATION:Taproom On 19th
WEBSITE:http://www.taproomon19th.com
URL:http://www.taproomon19th.com
CONTACT:2158409216
ORGANIZER;CN="Aversa PR & Events":http://phillytodo.com/profile/KoryAv
 ersa277
ATTACH;FMTTYPE="image/jpeg":http://storage.ning.com/topology/rest/1.0/
 file/get/3054989173?profile=original
ATTENDEE;ROLE=REQ-PARTICIPANT;PARTSTAT=ACCEPTED;RSVP=TRUE;CN="Aversa P
 R & Events":http://phillytodo.com/profile/KoryAversa277
END:VEVENT
END:VCALENDAR
