BEGIN:VCALENDAR
PRODID:NingEventWidget-v1
VERSION:2.0
METHOD:PUBLISH
BEGIN:VEVENT
UID:4320450:Event:33215
DTSTAMP:20260425T124852Z
SUMMARY:Members Show
DESCRIPTION:InLiquid, The Philadelphia Photo Arts Center, and Second S
 tate Press present:\nFirst Annual Members Show\nAugust 2 – 24, 2013\
 nThe Icebox, Crane Arts Building, 1400 North American Street, 1st Floo
 r, Philadelphia, PA Second Thursday reception: August 8, 6 – 9pm.\nI
 nspired by the collective creative force of three artist organizations
 , the First Annual Members Show at The Icebox will feature more than 2
 00 works across a diverse array of media. The show will serve as a dyn
 amic snapshot of the impressive work being created by members of InLiq
 uid, The Philadelphia Photo Arts Center, and Second State Press.\nThe 
 organizations have both a shared address at the Crane Arts Building, a
 s well as a shared mission to support hundreds of artists throughout t
 he region. The combined talent and resources of the three groups have 
 helped to foster a vibrant creative community in Philadelphia for over
  fifteen years. Together, they work to build a variety of educational 
 opportunities, forge local networks, and assist in the creation of new
  and innovative artworks.\nInLiquid is a nonprofit organization commit
 ted to creating opportunities and exposure for visual artists while se
 rving as a free, online public hub for arts information in the Philade
 lphia area. By providing the public with immediate access to view the 
 portfolios and credentials of over 280 artists and designers via the i
 nternet; through meaningful partnerships with other cultural organizat
 ions; through community-based activities and exhibitions; and through 
 an extensive online body of timely art information, InLiquid brings to
  light the richness of our region’s art activity, broadens audiences
 , and heightens appreciation for all forms of visual culture.\nThe Phi
 ladelphia Photo Arts Center is a community hub for contemporary photog
 raphy. Devoted to the study, practice and appreciation of photos. PPAC
  organizes innovative exhibitions, inspiring artist lectures, diverse 
 educational offerings, and affordable access to high-end digital equip
 ment for the production of work. Founded in 2009, PPAC quickly became 
 the premiere resource in the region for photographers and enthusiasts 
 alike, and has flourished through its tremendous efforts towards outre
 ach and public involvement. PPAC is committed to taking photography pa
 st the gallery walls and into the city, and to fostering the creative 
 impetus in all those willing to take a picture.\nSecond State Press is
  a communal printmaking workshop whose mission is to foster the develo
 pment of ideas and innovation in printmaking by providing artists with
  a professional, affordable, and supportive workspace. SSP advances th
 e growth of a sustainable printmaking community by offering profession
 al facilities through membership, affordable communal workspace for em
 erging and mid-career artists, educational print programming, and prof
 essional development opportunities.\nJoin us to discover new art by me
 mbers of three groups dedicated to supporting artistic practice in Phi
 ladelphia.\nThe exhibition will be open Wednesdays through Saturdays, 
 August 3 – 24, with a reception on August 8 from 6 – 9 pm during t
 he Crane Arts Building’s Second Thursday event.\n\nFor more informat
 ion visit http://phillytodo.com/events/members-show
DTSTART:20130803T160000Z
DTEND:20130824T220000Z
CATEGORIES:exhibition
LOCATION:Crane Arts Building
WEBSITE:http://www.inliquid.org/membershow/
URL:http://www.inliquid.org/membershow/
CONTACT:2152353405
ORGANIZER;CN="Erica Minutella":http://phillytodo.com/profile/EricaMinu
 tella
ATTACH;FMTTYPE="image/jpeg":
ATTENDEE;ROLE=REQ-PARTICIPANT;PARTSTAT=ACCEPTED;RSVP=TRUE;CN="Erica Mi
 nutella":http://phillytodo.com/profile/EricaMinutella
END:VEVENT
END:VCALENDAR
