BEGIN:VCALENDAR
PRODID:NingEventWidget-v1
VERSION:2.0
METHOD:PUBLISH
BEGIN:VEVENT
UID:4320450:Event:53208
DTSTAMP:20260425T160754Z
SUMMARY:Member Exclusive: Winterfest
DESCRIPTION:Schuylkill Center members are invited for a special lanter
 n walk through the winter twilight. Bring your own, or make a lantern 
 to take home, and hike through the setting sun to a fire for cocoa and
  s’mores. \nRegistration required, space is limited.\nNot a member?
  Join today!\n\nFor more information visit http://phillytodo.com/even
 ts/member-exclusive-winterfest
DTSTART:20171209T210000Z
DTEND:20171209T223000Z
CATEGORIES:hike
LOCATION:Schuylkill Center for Environmental Education
WEBSITE:http://www.schuylkillcenter.org/blog/event/member-exclusive-wi
 nterfest/
URL:http://www.schuylkillcenter.org/blog/event/member-exclusive-winter
 fest/
CONTACT:2154827300
ORGANIZER;CN="The Schuylkill Center":http://phillytodo.com/profile/Ann
 aLehrMueser
ATTACH;FMTTYPE="image/jpeg":http://storage.ning.com/topology/rest/1.0/
 file/get/3055010079?profile=original
ATTENDEE;ROLE=REQ-PARTICIPANT;PARTSTAT=ACCEPTED;RSVP=TRUE;CN="The Schu
 ylkill Center":http://phillytodo.com/profile/AnnaLehrMueser
END:VEVENT
END:VCALENDAR
