BEGIN:VCALENDAR
PRODID:NingEventWidget-v1
VERSION:2.0
METHOD:PUBLISH
BEGIN:VEVENT
UID:4320450:Event:31300
DTSTAMP:20260425T112444Z
SUMMARY:Meet Author Suzanne Bloom
DESCRIPTION:Join us for a One Book, Every Young Child program, The Bus
  For Us! During this program, author Suzanne Bloom will join several 
 libraries in Delaware County for an evening of literacy themed activit
 ies based on Pennsylvania’s Early Learning Standards.\nThis event is
  brought to you by  a collaborative efforts of libraries in The Delaw
 are County Library System            Lansdowne Public Libra
 ry            Darby Free Library            Glen
 olden Library            The Norwood Public Library    
         Sharon Hill Library            Ridley Park L
 ibrarySpecial thanks to            Commonwealth Libraries 
            The Lansdowne Department of Parks and Recreation\
 n This event will be held at The Twentieth Century Club located at 
 84 S Lansdowne Ave, Lansdowne, PA 19050\n \n\nFor more information vi
 sit http://phillytodo.com/events/meet-author-suzanne-bloom
DTSTART:20130417T220000Z
DTEND:20130418T000000Z
CATEGORIES:author, meet, book, signing, "children's", program
LOCATION:Twentieth Century Club
WEBSITE:http://www.lansdownepubliclibrary.com/
URL:http://www.lansdownepubliclibrary.com/
CONTACT:610-623-0239
ORGANIZER;CN="Lansdowne Public Library":http://phillytodo.com/profile/
 LansdownePublicLibrary
ATTACH;FMTTYPE="image/jpeg":http://storage.ning.com/topology/rest/1.0/
 file/get/3054963254?profile=original
ATTENDEE;ROLE=REQ-PARTICIPANT;PARTSTAT=ACCEPTED;RSVP=TRUE;CN="Lansdown
 e Public Library":http://phillytodo.com/profile/LansdownePublicLibrary
END:VEVENT
END:VCALENDAR
