BEGIN:VCALENDAR
PRODID:NingEventWidget-v1
VERSION:2.0
METHOD:PUBLISH
BEGIN:VEVENT
UID:4320450:Event:35266
DTSTAMP:20260425T144316Z
SUMMARY:Meditation Day Course: Living the Dream
DESCRIPTION:Free yourself from anger, resentment, and blame by underst
 anding the dream-like nature of people and things.  Join us for a med
 itation day course on the Buddhist view of emptiness.\nNo meditation e
 xperience necessary. Everyone is welcome.\nThis course will be taught 
 by Gen Tenzin, a western Buddhist monk and Resident Teacher of Amitayu
 s Kadampa Buddhist Center.\n$30\nCourse Schedule:\nRegistration: 10:30
 -11:00am\nTeaching & Meditation: 11:00am-12:30pm\nLunch Break: 12:30-2
 :00pm\nTeaching & Meditation: 2:00-4:00pm\n\nFor more information visi
 t http://phillytodo.com/events/meditation-day-course-living-the-dream
DTSTART:20140118T160000Z
DTEND:20140118T210000Z
CATEGORIES:meditation, class, buddhism, wellness, spiritual, buddhist
LOCATION:Amitayus Kadampa Buddhist Center
WEBSITE:http://meditationinphiladelphia.org/meditation-day-course-livi
 ng-the-dream/
URL:http://meditationinphiladelphia.org/meditation-day-course-living-t
 he-dream/
CONTACT:267-702-3817
ORGANIZER:Julie Francisco, Education Program Coordinator
ATTACH;FMTTYPE="image/jpeg":
ATTENDEE;ROLE=REQ-PARTICIPANT;PARTSTAT=ACCEPTED;RSVP=TRUE;CN="Educatio
 n Program Coordinator":http://phillytodo.com/profile/EducationProgramC
 oordinator
END:VEVENT
END:VCALENDAR
