BEGIN:VCALENDAR
PRODID:NingEventWidget-v1
VERSION:2.0
METHOD:PUBLISH
BEGIN:VEVENT
UID:4320450:Event:55019
DTSTAMP:20260425T125330Z
SUMMARY:Meditation and the Power of Imagination: Quickly Creating a Pe
 aceful World
DESCRIPTION:Buddha taught we need positive energy to fulfill our daily
  wishes, as well as our spiritual aspirations. He explained a special 
 method to create powerful positive energy called engaging in guru yoga
  mandala offering retreat.\nDuring this teaching and meditation retrea
 t, we will receive the instructions on how to engage in these practice
 s and gain familiarity using them to create a great amount of positive
  energy, which we can use for any worthwhile aim we choose.\nTaught by
  Resident Teacher, Gen Tenzin. Everyone is welcome.\nTeachings & Medit
 ation Sessions: 10:30-11:30am, 1:00pm-2:00pm, 3:00-4:00pm, 5:00-6:00pm
 \n$5 per session.\nAdditional sessions will take place throughout the 
 week.  See website for details.\n\nFor more information visit http://
 phillytodo.com/events/meditation-and-the-power-of-imagination-quickly-
 creating-a
DTSTART:20180506T143000Z
DTEND:20180506T220000Z
CATEGORIES:meditation, buddhism, mindfulness, wellness, buddhist
LOCATION:Kadampa Meditation Center Philadelphia
WEBSITE:http://www.meditationinphiladelphia.org/meditation-and-the-pow
 er-of-imagination-quickly-creating-a-peaceful-world-may-6-11/
URL:http://www.meditationinphiladelphia.org/meditation-and-the-power-o
 f-imagination-quickly-creating-a-peaceful-world-may-6-11/
CONTACT:2677023817
ORGANIZER;CN="Education Program Coordinator":http://phillytodo.com/pro
 file/EducationProgramCoordinator
ATTACH;FMTTYPE="image/jpeg":http://storage.ning.com/topology/rest/1.0/
 file/get/3055013605?profile=original
ATTENDEE;ROLE=REQ-PARTICIPANT;PARTSTAT=ACCEPTED;RSVP=TRUE;CN="Educatio
 n Program Coordinator":http://phillytodo.com/profile/EducationProgramC
 oordinator
END:VEVENT
END:VCALENDAR
