BEGIN:VCALENDAR
PRODID:NingEventWidget-v1
VERSION:2.0
METHOD:PUBLISH
BEGIN:VEVENT
UID:4320450:Event:41624
DTSTAMP:20260425T144242Z
SUMMARY:Meditation and Self-Esteem: A Day Course
DESCRIPTION:We all want to feel good about ourselves. This helps us in
  our daily life, our relationships, and our spiritual development. How
 ever, when we lack self-esteem, and our self-view is not positive, our
  whole life can be adversely affected.\nDuring this day course, we wil
 l learn how to look at ourselves differently and relate to our extraor
 dinary potential rather than our limitations. Awakening this inner con
 fidence through Buddhist wisdom will help us to experience real happin
 ess, improve ourselves, and benefit others.\nThis course will be taugh
 t by Gen Tenzin, with meditations led by Julie Francisco.\n\n\nCourse 
 Schedule:\nRegistration: 10:30am-11:00am\nTeaching and Meditation: 11:
 00am-12:30pm\nLunch: 12:30-2:00pm\nTeaching and Meditation: 2:00-4:00p
 m\n\n$30\n\nGen Tenzin is a senior Kadampa student and teacher. He stu
 died on the Teacher Training Program at Saraha Center in San Francisco
  while teaching at Dewikoti Buddhist Center in Marin, California. Subs
 equently he taught at Odiyana Buddhist Center in Connecticut for over 
 seven years.  He has a great depth of understanding of the teachings 
 and is skillful in his presentation by sharing them in an entertaining
 , practical and kind-hearted manner.\n\nFor more information visit htt
 p://phillytodo.com/events/meditation-and-self-esteem-a-day-course
DTSTART:20150919T150000Z
DTEND:20150919T200000Z
CATEGORIES:meditation, class
LOCATION:Amitayus Kadampa Buddhist Center
WEBSITE:http://www.meditationinphiladelphia.org/meditation-and-self-es
 teem-2/
URL:http://www.meditationinphiladelphia.org/meditation-and-self-esteem
 -2/
CONTACT:267-702-3817
ORGANIZER;CN="Education Program Coordinator":http://phillytodo.com/pro
 file/EducationProgramCoordinator
ATTACH;FMTTYPE="image/jpeg":
ATTENDEE;ROLE=REQ-PARTICIPANT;PARTSTAT=ACCEPTED;RSVP=TRUE;CN="Educatio
 n Program Coordinator":http://phillytodo.com/profile/EducationProgramC
 oordinator
END:VEVENT
END:VCALENDAR
