BEGIN:VCALENDAR
PRODID:NingEventWidget-v1
VERSION:2.0
METHOD:PUBLISH
BEGIN:VEVENT
UID:4320450:Event:41027
DTSTAMP:20260425T142654Z
SUMMARY:Medicinal Herb Tinctures with HerbanMomma
DESCRIPTION:http://www.greensgrow.org/event/medicinal-herbs/\n\nFor mo
 re information visit http://phillytodo.com/events/medicinal-herb-tinct
 ures-with-herbanmomma
DTSTART:20150627T160000Z
DTEND:20150627T180000Z
CATEGORIES:workshop
LOCATION:Greensgrow Community Kitchen at St. Michael's Lutheran Church
WEBSITE:http://www.greensgrow.org/event/medicinal-herbs/
URL:http://www.greensgrow.org/event/medicinal-herbs/
CONTACT:2154272702
ORGANIZER;CN="Greensgrow Farms":http://phillytodo.com/profile/Greensgr
 owFarms
ATTACH;FMTTYPE="image/jpeg":
ATTENDEE;ROLE=REQ-PARTICIPANT;PARTSTAT=ACCEPTED;RSVP=TRUE;CN="Greensgr
 ow Farms":http://phillytodo.com/profile/GreensgrowFarms
END:VEVENT
END:VCALENDAR
