BEGIN:VCALENDAR
PRODID:NingEventWidget-v1
VERSION:2.0
METHOD:PUBLISH
BEGIN:VEVENT
UID:4320450:Event:32104
DTSTAMP:20260425T173516Z
SUMMARY:McFadden's Concierge Ballpark Package
DESCRIPTION:You know those nights, or days, when you go out with a few
  friends, get a nice buzz going and go to an event together to have an
  amazing time? You just feel good knowing that you have something to l
 ook forward to. Then, you all get together, go to said event, and enjo
 y a night brings you the fun that literally keeps you going out each w
 eekend\n\nWell, let that event be a Phillies game, and let McFadden's 
 facilitate that good time. Sure, the Fightin's may not be playing at t
 he level to which we have all grown accustomed, but it's still a good 
 old fashioned fun night.\n\nHere's the deal: for $40, McFadden's Ballp
 ark Concierge Package (available for multiple dates, May 4th is neares
 t) gets you a ticket to the 7:05pm Phillies game, a two hour open bar 
 and light buffet, then drink specials for after the game. For anyone w
 ho knows the average cost of a game at CBP, this is a great deal, espe
 cially if you can drink more than 3 beers in 2 hours.\n\nhttps://buybl
 itzcertificates.com/index.php?catid=221\n\nFor more information visit 
 http://phillytodo.com/events/mcfadden-s-concierge-ballpark-package
DTSTART:20130429T210000Z
DTEND:20130429T230000Z
CATEGORIES:baseball, game
LOCATION:McFadden's at Citizen's Band Park
WEBSITE:https://buyblitzcertificates.com/index.php?catid=221
URL:https://buyblitzcertificates.com/index.php?catid=221
CONTACT:
ORGANIZER;CN="Alex Muller @BrotherlyFood":http://phillytodo.com/profil
 e/AlexMuller
ATTACH;FMTTYPE="image/jpeg":http://storage.ning.com/topology/rest/1.0/
 file/get/3054965707?profile=original
ATTENDEE;ROLE=REQ-PARTICIPANT;PARTSTAT=ACCEPTED;RSVP=TRUE;CN="Alex Mul
 ler @BrotherlyFood":http://phillytodo.com/profile/AlexMuller
END:VEVENT
END:VCALENDAR
