BEGIN:VCALENDAR
PRODID:NingEventWidget-v1
VERSION:2.0
METHOD:PUBLISH
BEGIN:VEVENT
UID:4320450:Event:43407
DTSTAMP:20260425T160229Z
SUMMARY:Mayhem and Mistletoe Party
DESCRIPTION:Join the holiday spirit at our Mayhem & Mistletoe party on
  Saturday, December 19th!  Enjoy pictures with Santa, and kisses under
  the Mistletoe.  Dress to impress & enter our Sexiest Santa and Ugly S
 weater Contest to WIN awesome prizes.  Event begins 9pm.  FREE event a
 nd FREE parking available after 9pm.\n- See more at: http://www.xfinit
 ylive.com/entertainment/event/5778#sthash.hJ0eaVAP.dpuf\n\nFor more in
 formation visit http://phillytodo.com/events/mayhem-and-mistletoe-part
 y
DTSTART:20151220T020000Z
DTEND:20151220T070000Z
CATEGORIES:holiday, party
LOCATION:XFINITY Live!
WEBSITE:http://www.xfinitylive.com/entertainment/event/5778
URL:http://www.xfinitylive.com/entertainment/event/5778
CONTACT:(267) 443-6415
ORGANIZER;CN="XFINITY Live! Philadelphia":http://phillytodo.com/profil
 e/XFINITYLivePhiladelphia
ATTACH;FMTTYPE="image/jpeg":http://storage.ning.com/topology/rest/1.0/
 file/get/3054993695?profile=original
ATTENDEE;ROLE=REQ-PARTICIPANT;PARTSTAT=ACCEPTED;RSVP=TRUE;CN="XFINITY 
 Live! Philadelphia":http://phillytodo.com/profile/XFINITYLivePhiladelp
 hia
END:VEVENT
END:VCALENDAR
