BEGIN:VCALENDAR
PRODID:NingEventWidget-v1
VERSION:2.0
METHOD:PUBLISH
BEGIN:VEVENT
UID:4320450:Event:3741
DTSTAMP:20260425T160923Z
SUMMARY:Mary's 2011 New Year's Eve Party
DESCRIPTION:It's A New Year's Eve CelebrationAn Elegantly Casual Affai
 rHot ~ Sexy ~ FunkySpecial Performance by \"The UnKnowns\"Music by \"L
 .I.T.E. EntertainmentOpen Bar...Dinner...Dancing...New Year Champagne 
 Toast ~ Noise Makers & Hats$60.00 per personLot's of Singles and of co
 urse Couples (some of my best friends are couples)....Tickets are avai
 lable for the Celebration, Reserve your Table!For tickets : Contact: 2
 15-778-1668 or marthur11@aol.com\n\nFor more information visit http://
 phillytodo.com/events/marys-2011-new-years-eve-party
DTSTART:20110101T020000Z
DTEND:20110101T070000Z
CATEGORIES:celebration
LOCATION:UpStairs at The FOP
WEBSITE:
URL:
CONTACT:215-778-1665
ORGANIZER;CN="Mary Arthur":http://phillytodo.com/profile/MaryArthur
ATTACH;FMTTYPE="image/jpeg":http://storage.ning.com/topology/rest/1.0/
 file/get/3054953975?profile=original
ATTENDEE;ROLE=REQ-PARTICIPANT;PARTSTAT=ACCEPTED;RSVP=TRUE;CN="Mary Art
 hur":http://phillytodo.com/profile/MaryArthur
END:VEVENT
END:VCALENDAR
