BEGIN:VCALENDAR
PRODID:NingEventWidget-v1
VERSION:2.0
METHOD:PUBLISH
BEGIN:VEVENT
UID:4320450:Event:59509
DTSTAMP:20260425T143125Z
SUMMARY:Martin Luther King Jr. Day of Service
DESCRIPTION:Work together to honor Dr. Martin Luther King Jr’s legac
 y by providing service. Community members as well as Nature Preschool 
 families past and present are invited to join us as we work on service
  projects aimed at protecting the health of our forests, fields, and m
 eadows. There will be both child-centered and adult service projects a
 vailable. Registration appreciated.   If you have a large group intere
 sted in participating, please contact our Volunteer Coordinator, Clair
 e Morgan, at claire@schuylkillcenter.org. \n\nFor more information vi
 sit http://phillytodo.com/events/martin-luther-king-jr-day-of-service
DTSTART:20200120T150000Z
DTEND:20200120T170000Z
CATEGORIES:volunteer
LOCATION:the Schuylkill Center
WEBSITE:http://www.schuylkillcenter.org/blog/event/martin-luther-king-
 jr-day-of-service-2/
URL:http://www.schuylkillcenter.org/blog/event/martin-luther-king-jr-d
 ay-of-service-2/
CONTACT:
ORGANIZER;CN="The Schuylkill Center":http://phillytodo.com/profile/Ann
 aLehrMueser
ATTACH;FMTTYPE="image/jpeg":
ATTENDEE;ROLE=REQ-PARTICIPANT;PARTSTAT=ACCEPTED;RSVP=TRUE;CN="The Schu
 ylkill Center":http://phillytodo.com/profile/AnnaLehrMueser
END:VEVENT
END:VCALENDAR
