BEGIN:VCALENDAR
PRODID:NingEventWidget-v1
VERSION:2.0
METHOD:PUBLISH
BEGIN:VEVENT
UID:4320450:Event:41522
DTSTAMP:20260425T175130Z
SUMMARY:Market & Shops Quizzo
DESCRIPTION:Grab a team, and your favorite beer or wine and join us fo
 r Quizzo with Johnny Goodtimes and Drink Philly! Event is FREE and ope
 n to the public. Winning teams get $100 gift cards to spend in the Mar
 ket & Shops at Comcast Center! Let the games begin!\n \nTweet with us
  @MarketComcast, @JohnnyGoodtimes, @DrinkPhilly\nhttps://www.facebook.
 com/events/1446184085686396/\n\nFor more information visit http://phil
 lytodo.com/events/market-shops-quizzo
DTSTART:20150714T213000Z
DTEND:20150715T003000Z
CATEGORIES:fun, event
LOCATION:The Market & Shops at Comcast Center.
WEBSITE:https://www.facebook.com/events/1446184085686396/
URL:https://www.facebook.com/events/1446184085686396/
CONTACT:2156271060
ORGANIZER;CN=CashmanAssoc:http://phillytodo.com/profile/CashmanAssoc
ATTACH;FMTTYPE="image/jpeg":
ATTENDEE;ROLE=REQ-PARTICIPANT;PARTSTAT=ACCEPTED;RSVP=TRUE;CN=CashmanAs
 soc:http://phillytodo.com/profile/CashmanAssoc
END:VEVENT
END:VCALENDAR
