BEGIN:VCALENDAR
PRODID:NingEventWidget-v1
VERSION:2.0
METHOD:PUBLISH
BEGIN:VEVENT
UID:4320450:Event:35654
DTSTAMP:20260425T112601Z
SUMMARY:Mardi Gras Festival
DESCRIPTION:Celebrate Mardi Gras at the BIGGEST party in Philly on Sat
 urday, March 1st right here at XFINITY Live! Philadelphia.\n The party
  starts at 4pm with stilt walkers, fire breathers, trapeze artists, ju
 gglers and much more! Live music inside of Victory Beer Hall, plus Nat
 ional DJ Clinton Sparks will be spinning your favorite tracks in NBC S
 ports Arena! We'll also be giving away a trip to New Orleans!  Contact
  parties@xfinitylive.com to book your VIP Party. Free parking is avail
 able after 8:30pm. #XLMardiGras\n\nFor more information visit http://p
 hillytodo.com/events/mardi-gras-festival
DTSTART:20140301T210000Z
DTEND:20140302T070000Z
CATEGORIES:festival
LOCATION:XFINITY Live! Philadelphia
WEBSITE:http://www.xfinitylive.com
URL:http://www.xfinitylive.com
CONTACT:
ORGANIZER;CN="XFINITY Live! Philadelphia":http://phillytodo.com/profil
 e/XFINITYLivePhiladelphia
ATTACH;FMTTYPE="image/jpeg":http://storage.ning.com/topology/rest/1.0/
 file/get/3054973508?profile=original
ATTENDEE;ROLE=REQ-PARTICIPANT;PARTSTAT=ACCEPTED;RSVP=TRUE;CN="XFINITY 
 Live! Philadelphia":http://phillytodo.com/profile/XFINITYLivePhiladelp
 hia
END:VEVENT
END:VCALENDAR
