BEGIN:VCALENDAR
PRODID:NingEventWidget-v1
VERSION:2.0
METHOD:PUBLISH
BEGIN:VEVENT
UID:4320450:Event:49026
DTSTAMP:20260425T095928Z
SUMMARY:Mardi Gras 2017
DESCRIPTION:Get your beads ready for Mardi Gras 2017 on Saturday, Febr
 uary 25th. Join us for the best Mardi Gras party in the city only at X
 FINITY Live! Wear your purple, yellow & green - Enjoy live performance
 s by Drop Dead Sexy! The fun features beads contests, $500 cash balloo
 n drop, stilt walkers, hula hoopers, and more! The party starts at 9pm
 ! #XLMardiGras\n\nFor more information visit http://phillytodo.com/eve
 nts/mardi-gras-2017
DTSTART:20170226T020000Z
DTEND:20170226T070000Z
CATEGORIES:mardi, gras, party
LOCATION:XFINITY Live!
WEBSITE:http://www.xfinitylive.com/entertainment/event/10898
URL:http://www.xfinitylive.com/entertainment/event/10898
CONTACT:
ORGANIZER:
ATTACH;FMTTYPE="image/jpeg":http://storage.ning.com/topology/rest/1.0/
 file/get/3055001386?profile=original
ATTENDEE;ROLE=REQ-PARTICIPANT;PARTSTAT=ACCEPTED;RSVP=TRUE;CN="XFINITY 
 Live! Philadelphia":http://phillytodo.com/profile/XFINITYLivePhiladelp
 hia
END:VEVENT
END:VCALENDAR
