BEGIN:VCALENDAR
PRODID:NingEventWidget-v1
VERSION:2.0
METHOD:PUBLISH
BEGIN:VEVENT
UID:4320450:Event:39620
DTSTAMP:20260425T095927Z
SUMMARY:Mardi Gras 2015
DESCRIPTION:Get ready to throw beads and celebrate Mardi Gras on Satur
 day, February 14th. Join us for the best Mardi Gras party in the city 
 only at XFINITY Live! Enjoy live performances by Gypsy Wisdom and DJ 
 Ronnie D (with special guests). Don't miss cash/prizes for the most b
 eads! Plus - Hurricanes and drink specials all night long. Party sta
 rts at 8pm. Free parking available all day. \n\nFor more information 
 visit http://phillytodo.com/events/mardi-gras-2015
DTSTART:20150215T010000Z
DTEND:20150215T044500Z
CATEGORIES:special, event, holiday, mardi, gra, drink, specials, live,
  music
LOCATION:XFINITY Live! Philadelphia
WEBSITE:http://www.xfinitylive.com/entertainment/event/3968
URL:http://www.xfinitylive.com/entertainment/event/3968
CONTACT:2674436415
ORGANIZER;CN="XFINITY Live! Philadelphia":http://phillytodo.com/profil
 e/XFINITYLivePhiladelphia
ATTACH;FMTTYPE="image/jpeg":http://storage.ning.com/topology/rest/1.0/
 file/get/3054987791?profile=original
ATTENDEE;ROLE=REQ-PARTICIPANT;PARTSTAT=ACCEPTED;RSVP=TRUE;CN="XFINITY 
 Live! Philadelphia":http://phillytodo.com/profile/XFINITYLivePhiladelp
 hia
END:VEVENT
END:VCALENDAR
