BEGIN:VCALENDAR
PRODID:NingEventWidget-v1
VERSION:2.0
METHOD:PUBLISH
BEGIN:VEVENT
UID:4320450:Event:57413
DTSTAMP:20260425T113122Z
SUMMARY:Manayunk StrEAT Food Festival
DESCRIPTION:Along historic Main Street, grab everything from savory BB
 Q to sweet desserts from over 50 of Philadelphia’s best food trucks 
 and gourmet food vendors! Purchase homemade oils, spices, or stock up 
 on fresh fruits and vegetables at the farm stand. Participating vendo
 rs will be highlighting dishes with the spring ingredient – strawber
 ries! Take a break from eating with festival shopping at local busines
 ses that will be joining the trucks and vendors on the street. From si
 dewalk sales to promotions, see all that our Manayunk merchants have t
 o offer. In addition to eating and shopping, there will be live music 
 for people of all ages to enjoy at Green Lane, Cotton Street, and Shur
 s Lane.\n\nFor more information visit http://phillytodo.com/events/man
 ayunk-streat-food-festival-3
DTSTART:20190414T150000Z
DTEND:20190414T210000Z
CATEGORIES:food, festival
LOCATION:Main Street, Manayunk
WEBSITE:http://manayunk.com/events/manayunk-streat-food-festival.html
URL:http://manayunk.com/events/manayunk-streat-food-festival.html
CONTACT:2154829565
ORGANIZER;CN="Manayunk Development Corporation":http://phillytodo.com/
 profile/ManayunkDevelopmentCorporation
ATTACH;FMTTYPE="image/jpeg":https://storage.ning.com/topology/rest/1.0
 /file/get/1215638444?profile=original
ATTENDEE;ROLE=REQ-PARTICIPANT;PARTSTAT=ACCEPTED;RSVP=TRUE;CN="Manayunk
  Development Corporation":http://phillytodo.com/profile/ManayunkDevelo
 pmentCorporation
END:VEVENT
END:VCALENDAR
