BEGIN:VCALENDAR
PRODID:NingEventWidget-v1
VERSION:2.0
METHOD:PUBLISH
BEGIN:VEVENT
UID:4320450:Event:41856
DTSTAMP:20260425T144806Z
SUMMARY:Manayunk StrEAT Food Festival
DESCRIPTION:Take a stroll along historic Main Street with your family 
 and friends and taste everything from savory burgers to sweet desserts
  from over 50 of Philadelphiaâ€™s best food trucks, purchase goods and
  sweets from the gourmet food vendors. Participating vendors will be h
 ighlighting dishes with the fall ingredient â€“ apples!\nTake a break 
 from eating with festival shopping at local businesses that will be jo
 ining the trucks and vendors on the street. From sidewalk sales to pro
 motions, see all that our Manayunk merchants have to offer. In additio
 n to eating and shopping, there will be live music for people of all a
 ges to enjoy at three different locations â€“ Shurs Lane, Cotton Stree
 t, and Green Lane. And for those 21 and older, there will be a Beer an
 d Wine Garden on Cotton Street with Goose Island, EJ Gallo Wine, Darkh
 orse, and more!\nThe Manayunk StrEAT Food Festival is a kickoff celebr
 ation to Manayunk Restaurant Week. Some of Manayunkâ€™s finest eaterie
 s will be highlighting exclusive three course meals which will be offe
 red at $15, $25, and $35 price ranges. This is an affair that you donâ
 €™t want to miss out on! Restaurant Week starts September 14th and las
 ts until September 25th.\nMain Street will be closed to all vehicle tr
 affic.\n\n\nFor more information visit http://phillytodo.com/events/ma
 nayunk-streat-food-festival-2
DTSTART:20150913T150000Z
DTEND:20150913T210000Z
CATEGORIES:festival
LOCATION:Manayunk
WEBSITE:http://manayunk.com/
URL:http://manayunk.com/
CONTACT:215-482-9565
ORGANIZER;CN="Manayunk Development Corporation":http://phillytodo.com/
 profile/ManayunkDevelopmentCorporation
ATTACH;FMTTYPE="image/jpeg":http://storage.ning.com/topology/rest/1.0/
 file/get/3054990626?profile=original
ATTENDEE;ROLE=REQ-PARTICIPANT;PARTSTAT=ACCEPTED;RSVP=TRUE;CN="Manayunk
  Development Corporation":http://phillytodo.com/profile/ManayunkDevelo
 pmentCorporation
END:VEVENT
END:VCALENDAR
