BEGIN:VCALENDAR
PRODID:NingEventWidget-v1
VERSION:2.0
METHOD:PUBLISH
BEGIN:VEVENT
UID:4320450:Event:53605
DTSTAMP:20260425T125819Z
SUMMARY:Manayunk Small Business Saturday/Tree Lighting
DESCRIPTION:Shop small and shop local at over 50 small businesses to f
 ind something for everyone on your list as the neighborhood kicks off 
 the holidays season with Small Business Saturday on November 25. Spons
 ored by American Express, this day is dedicated to supporting local, i
 ndependently owned shops in the district. The night will end with the 
 annual tree lighting at Canal View Park. Stick around for performances
  by Merge Dance Studio and other local groups. Keep an eye out for the
  big man himself, too!\n\n\nFor more information visit http://phillyto
 do.com/events/manayunk-small-business-saturday-tree-lighting
DTSTART:20171125T050000Z
DTEND:20171126T045900Z
CATEGORIES:shopping, festival
LOCATION:Main Street, Manayunk
WEBSITE:http://manayunk.com/news-and-events/events/small-business-satu
 rday.html
URL:http://manayunk.com/news-and-events/events/small-business-saturday
 .html
CONTACT:2154829565
ORGANIZER;CN="Manayunk Development Corporation":http://phillytodo.com/
 profile/ManayunkDevelopmentCorporation
ATTACH;FMTTYPE="image/jpeg":http://storage.ning.com/topology/rest/1.0/
 file/get/3055009755?profile=original
ATTENDEE;ROLE=REQ-PARTICIPANT;PARTSTAT=ACCEPTED;RSVP=TRUE;CN="Manayunk
  Development Corporation":http://phillytodo.com/profile/ManayunkDevelo
 pmentCorporation
END:VEVENT
END:VCALENDAR
