BEGIN:VCALENDAR
PRODID:NingEventWidget-v1
VERSION:2.0
METHOD:PUBLISH
BEGIN:VEVENT
UID:4320450:Event:53311
DTSTAMP:20260425T142535Z
SUMMARY:Manayunk Rudolph Run
DESCRIPTION:On December 9, Philadelphia Runner will host their 4th ann
 ual Rudolph Run. Dress to impress for this three-mile run along the to
 wpath. The only cost to join the run is a canned or non-perishable foo
 d item to be donated to North Light Community Center’s food cupboard
 . In exchange for each donation, participants will receive a raffle ti
 cket for the chance to win a gift basket filled with items and gift ca
 rds from local Manayunk businesses (Up to 20 chances for 20 canned goo
 ds).\n\nFor more information visit http://phillytodo.com/events/manayu
 nk-rudolph-run
DTSTART:20171209T050000Z
DTEND:20171210T045900Z
CATEGORIES:marathon
LOCATION:Main Street, Manayunk
WEBSITE:http://manayunk.com/news-and-events/events/holidays.html
URL:http://manayunk.com/news-and-events/events/holidays.html
CONTACT:2154829565
ORGANIZER;CN="Manayunk Development Corporation":http://phillytodo.com/
 profile/ManayunkDevelopmentCorporation
ATTACH;FMTTYPE="image/jpeg":http://storage.ning.com/topology/rest/1.0/
 file/get/3055009678?profile=original
ATTENDEE;ROLE=REQ-PARTICIPANT;PARTSTAT=ACCEPTED;RSVP=TRUE;CN="Manayunk
  Development Corporation":http://phillytodo.com/profile/ManayunkDevelo
 pmentCorporation
END:VEVENT
END:VCALENDAR
