BEGIN:VCALENDAR
PRODID:NingEventWidget-v1
VERSION:2.0
METHOD:PUBLISH
BEGIN:VEVENT
UID:4320450:Event:56630
DTSTAMP:20260425T141235Z
SUMMARY:Manayunk Rudolph Run
DESCRIPTION:The 5th Annual Rudolph Run is on Saturday, December 8! Jo
 in Philadelphia Runner for a fun 3-mile run along the Manayunk Canal
 .\nTo help spread some holiday cheer to those in need, we'll be collec
 ting canned goods and other necessities again as donations/entry fee f
 or North Light Community Center.\n\nFor more information visit http://
 phillytodo.com/events/manayunk-rudolph-run-1
DTSTART:20181208T131500Z
DTEND:20181208T160000Z
CATEGORIES:holiday, run
LOCATION:Philadelphia Runner Manayunk
WEBSITE:https://bit.ly/2Sz6Yg4
URL:https://bit.ly/2Sz6Yg4
CONTACT:2154829565
ORGANIZER;CN="Manayunk Development Corporation":http://phillytodo.com/
 profile/ManayunkDevelopmentCorporation
ATTACH;FMTTYPE="image/jpeg":http://storage.ning.com/topology/rest/1.0/
 file/get/3055016514?profile=original
ATTENDEE;ROLE=REQ-PARTICIPANT;PARTSTAT=ACCEPTED;RSVP=TRUE;CN="Manayunk
  Development Corporation":http://phillytodo.com/profile/ManayunkDevelo
 pmentCorporation
END:VEVENT
END:VCALENDAR
