BEGIN:VCALENDAR
PRODID:NingEventWidget-v1
VERSION:2.0
METHOD:PUBLISH
BEGIN:VEVENT
UID:4320450:Event:41859
DTSTAMP:20260425T124909Z
SUMMARY:Manayunk Restaurant Week
DESCRIPTION:The Manayunk StrEAT Food Festival on Sunday, September 13t
 hÂ  is a kickoff celebration to Manayunk Restaurant Week, running from
  Monday, September 14th â€“ Friday, September 25th. Some of Manayunkâ€
 ™s finest eateries will be highlighting exclusive three course meals w
 hich will be offered at $15, $25, and $35 price ranges. This is an aff
 air that you donâ€™t want to miss out on! For more information on part
 icipating restaurants and menus, please check out our website.\n\nPRIC
 E: Varies ($15,$25,$35)\n\n\nFor more information visit http://phillyt
 odo.com/events/manayunk-restaurant-week-2
DTSTART:20150914T190000Z
DTEND:20150926T020000Z
CATEGORIES:"resturant/food"
LOCATION:Select Restaurants in Manayunk
WEBSITE:http://manayunk.com/
URL:http://manayunk.com/
CONTACT:215-482-9565
ORGANIZER;CN="Manayunk Development Corporation":http://phillytodo.com/
 profile/ManayunkDevelopmentCorporation
ATTACH;FMTTYPE="image/jpeg":http://storage.ning.com/topology/rest/1.0/
 file/get/3054990723?profile=original
ATTENDEE;ROLE=REQ-PARTICIPANT;PARTSTAT=ACCEPTED;RSVP=TRUE;CN="Manayunk
  Development Corporation":http://phillytodo.com/profile/ManayunkDevelo
 pmentCorporation
END:VEVENT
END:VCALENDAR
