BEGIN:VCALENDAR
PRODID:NingEventWidget-v1
VERSION:2.0
METHOD:PUBLISH
BEGIN:VEVENT
UID:4320450:Event:48308
DTSTAMP:20260425T125915Z
SUMMARY:Manayunk Promenade of Trees
DESCRIPTION:Manayunk.com is proud to partner with Wawa Welcome America
 's Philadelphia Holiday Festival for the Promenade of Trees!  Business
 es along Main Street are decorating holiday trees in the themes of Chr
 istmas past, present, and future, which will be put on display outside
  of their storefronts all month long. At sundown, guests and Welcome A
 merica representatives will be lead by Christmas carolers down the sid
 ewalks of Manayunk for the official viewing and judging, including the
  \"People's Choice\" award!\n\nFor more information visit http://phill
 ytodo.com/events/manayunk-promenade-of-trees
DTSTART:20161203T200000Z
DTEND:20161204T000000Z
CATEGORIES:special, event, holidays
LOCATION:Manayunk
WEBSITE:https://www.facebook.com/events/1709100942741665/
URL:https://www.facebook.com/events/1709100942741665/
CONTACT:
ORGANIZER;CN="Manayunk Development Corporation":http://phillytodo.com/
 profile/ManayunkDevelopmentCorporation
ATTACH;FMTTYPE="image/jpeg":http://storage.ning.com/topology/rest/1.0/
 file/get/3055001508?profile=original
ATTENDEE;ROLE=REQ-PARTICIPANT;PARTSTAT=ACCEPTED;RSVP=TRUE;CN="Manayunk
  Development Corporation":http://phillytodo.com/profile/ManayunkDevelo
 pmentCorporation
END:VEVENT
END:VCALENDAR
