BEGIN:VCALENDAR
PRODID:NingEventWidget-v1
VERSION:2.0
METHOD:PUBLISH
BEGIN:VEVENT
UID:4320450:Event:53405
DTSTAMP:20260425T113107Z
SUMMARY:Manayunk Promenade of Trees/Santa Paws
DESCRIPTION:On Saturday, December 2, Main Street will light up for the
  second annual Promenade of Trees. Guests and a panel of judges will b
 e lead by carolers to see all 30 trees decorated by businesses in the 
 theme of “Stories of the Season.” Manayunk residents and visitors 
 can also get their pet's photo taken with Santa in front of the holida
 y tree at Canal View Park from 10 a.m. – 6 p.m. for the annual Santa
  Paws event. Photos will be taken for a suggested fee of $10, which wi
 ll be donated to Red Paw Emergency Relief Team.\n\n\nFor more informat
 ion visit http://phillytodo.com/events/manayunk-promenade-of-trees-san
 ta-paws
DTSTART:20171202T050000Z
DTEND:20171203T045900Z
CATEGORIES:family, festival
LOCATION:Main Street, Manayunk
WEBSITE:http://manayunk.com/news-and-events/events/holidays.html
URL:http://manayunk.com/news-and-events/events/holidays.html
CONTACT:2154829565
ORGANIZER;CN="Manayunk Development Corporation":http://phillytodo.com/
 profile/ManayunkDevelopmentCorporation
ATTACH;FMTTYPE="image/jpeg":http://storage.ning.com/topology/rest/1.0/
 file/get/3055009448?profile=original
ATTENDEE;ROLE=REQ-PARTICIPANT;PARTSTAT=ACCEPTED;RSVP=TRUE;CN="Manayunk
  Development Corporation":http://phillytodo.com/profile/ManayunkDevelo
 pmentCorporation
END:VEVENT
END:VCALENDAR
