BEGIN:VCALENDAR
PRODID:NingEventWidget-v1
VERSION:2.0
METHOD:PUBLISH
BEGIN:VEVENT
UID:4320450:Event:53408
DTSTAMP:20260425T161138Z
SUMMARY:Manayunk Holiday Stroll Nights/Merry, Merry Happy Hours
DESCRIPTION:Sweets & Treats Night: Merchants will have baked goods, co
 cktails, etc. inside their stores\nSecret Santa Night: Shoppers who sp
 end a certain amount will get to fish out a promo or gift card from pa
 rticipating merchants.\nMen's Shopping Night: Men will get an extra pe
 rsonalized experience when shopping for their ladies.\nDashing Through
  the Stores: A night of last minute shopping— grab and go items gift
 -wrapped, and stocking stuffers.\n*Merry, Merry Happy Hours will take 
 place Thursdays as well.\n\nEvery Thursday 11/30-12/21, 6-9 PM\n\nFor 
 more information visit http://phillytodo.com/events/manayunk-holiday-s
 troll-nights-merry-merry-happy-hours
DTSTART:20171130T230000Z
DTEND:20171222T020000Z
CATEGORIES:community, festival
LOCATION:Main Street, Manayunk
WEBSITE:http://manayunk.com/news-and-events/events/holidays.html
URL:http://manayunk.com/news-and-events/events/holidays.html
CONTACT:2154829565
ORGANIZER;CN="Manayunk Development Corporation":http://phillytodo.com/
 profile/ManayunkDevelopmentCorporation
ATTACH;FMTTYPE="image/jpeg":http://storage.ning.com/topology/rest/1.0/
 file/get/3055009471?profile=original
ATTENDEE;ROLE=REQ-PARTICIPANT;PARTSTAT=ACCEPTED;RSVP=TRUE;CN="Manayunk
  Development Corporation":http://phillytodo.com/profile/ManayunkDevelo
 pmentCorporation
END:VEVENT
END:VCALENDAR
